BEGIN:VCALENDAR
VERSION:2.0
PRODID:-//hacksw/handcal//NONSGML v1.0//EN
BEGIN:VEVENT
DTSTAMP:20171101T163000Z
DTSTART:20171101T163000Z
DTEND:20171101T183000Z
LOCATION:Molto Italiano, Eichhofstraße 11, Kiel, 24116, Deutschland
SUMMARY:Kiel, dynamische Veränderungen bis 2021
END:VEVENT
END:VCALENDAR
