BEGIN:VCALENDAR
VERSION:2.0
PRODID:-//hacksw/handcal//NONSGML v1.0//EN
BEGIN:VEVENT
DTSTAMP:20190828T063000Z
DTSTART:20190828T063000Z
DTEND:20190828T063000Z
LOCATION:Wohnpark Rüpcke, Neddertstr. 7, Schenefeld, 22869, Deutschland
SUMMARY:MIT-Unternehmerfrühstück in Schenefeld
END:VEVENT
END:VCALENDAR
