BEGIN:VCALENDAR
VERSION:2.0
PRODID:-//hacksw/handcal//NONSGML v1.0//EN
BEGIN:VEVENT
DTSTAMP:20220425T090000Z
DTSTART:20220425T090000Z
DTEND:20220425T103000Z
LOCATION:Alter Heidkrug, Segeberger Straße 10, Kayhude, 23863, Deutschland
SUMMARY:Business Lunch mit Julia Klöckner MdB
END:VEVENT
END:VCALENDAR
