BEGIN:VCALENDAR
VERSION:2.0
PRODID:-//hacksw/handcal//NONSGML v1.0//EN
BEGIN:VEVENT
DTSTAMP:20260421T080000Z
DTSTART:20260421T080000Z
DTEND:20260421T100000Z
LOCATION:LaKoDi Services GmbH, Heisterbusch 20 - 22, Hohenwestedt, 24594, Deutschland
SUMMARY:Unternehmerfrühstück zum Thema Cybersecurity 
END:VEVENT
BEGIN:VEVENT
DTSTAMP:20260414T160000Z
DTSTART:20260414T160000Z
DTEND:20260414T193000Z
LOCATION:Bernd Wilke GmbH & Co. KG, Hauptstraße 39, Pahlen, 25794, Deutschland
SUMMARY:Politik trifft Handwerk mit Wirtschaftsminister Claus Ruhe Madsen
END:VEVENT
BEGIN:VEVENT
DTSTAMP:20260320T130000Z
DTSTART:20260320T130000Z
DTEND:20260320T130000Z
LOCATION:Kühl GmbH, Max-Planck-Straße 9, Elmshorn, 25335, Deutschland
SUMMARY:Betriebsbesichtigung!                                 -  mit einem Klick zu google-maps!
END:VEVENT
BEGIN:VEVENT
DTSTAMP:20260303T170000Z
DTSTART:20260303T170000Z
DTEND:20260303T190000Z
LOCATION:Schleswig-Holsteinischer Landtag, Fraktionssitzungssaal der CDU (Raum 249), Düsternbrooker Weg 70, Kiel, 24105, Deutschland
SUMMARY:Neumitgliedertreffen mit Tobias Koch, MdL
END:VEVENT
BEGIN:VEVENT
DTSTAMP:20260223T173000Z
DTSTART:20260223T173000Z
DTEND:20260223T200000Z
LOCATION:Brückenterrassen, Am Kreishafen 36, Rendsburg, 24768, Deutschland
SUMMARY:Klönschnack mit Beate Nielsen MdL:  Aus Schule wird Zukunft!
END:VEVENT
BEGIN:VEVENT
DTSTAMP:20260212T170000Z
DTSTART:20260212T170000Z
DTEND:20260212T200000Z
LOCATION:Landhaus Siemers, Dorfstraße 21, Breitenfelde, 23881, Deutschland
SUMMARY:Grünkohlessen der MIT Herzogtum-Lauenburg mit Daniel Günther MdL
END:VEVENT
BEGIN:VEVENT
DTSTAMP:20260128T170000Z
DTSTART:20260128T170000Z
DTEND:20260128T210000Z
LOCATION:Hotel Birke, Martenshofweg 2-8, Kiel, 24109, Deutschland
SUMMARY:Traditioneller Neujahrsempfang 2026 mit Daniel Günther MdL
END:VEVENT
BEGIN:VEVENT
DTSTAMP:20251219T090000Z
DTSTART:20251219T090000Z
DTEND:20251219T110000Z
LOCATION:Volksbank Raiffeisenbank eG Itzehoe, Breite Str. 7, Itzehoe, 25524, Deutschland
SUMMARY:ADVENTSFRÜHSTÜCK HÜRDEN IN DER KREDITVERGABE STATUS QUO UND AUSBLICK
END:VEVENT
BEGIN:VEVENT
DTSTAMP:20251125T073000Z
DTSTART:20251125T073000Z
DTEND:20251125T100000Z
LOCATION:Autohaus Riemer, Alt-Möllner Straße 14-18, Mölln, 23879, Deutschland
SUMMARY:EINLADUNG ZUM UNTERNEHMERFRÜHSTÜCK IM AUTOHAUS RIEMER
END:VEVENT
BEGIN:VEVENT
DTSTAMP:20251110T170000Z
DTSTART:20251110T170000Z
DTEND:20251110T200000Z
LOCATION:Hotel Waldschlösschen, Kolonnenweg 152, Schleswig, 24837, Deutschland
SUMMARY:EUROPAPOL. GRÜNKOHLESSEN MIT UNSEREM MIT-ABGEORDNETEN NICLAS HERBST MdEP
END:VEVENT
BEGIN:VEVENT
DTSTAMP:20251027T170000Z
DTSTART:20251027T170000Z
DTEND:20251027T190000Z
LOCATION:Dachdeckerei Jan Witt, Grüner Weg 11, Jevenstedt, 24808, Deutschland
SUMMARY:Einladung zum Unternehmertreff bei der Dachdecker Jan Witt
END:VEVENT
BEGIN:VEVENT
DTSTAMP:20251009T150000Z
DTSTART:20251009T150000Z
DTEND:20251009T180000Z
LOCATION:Glücksschmiede, Gut Bossee, Westensee, 24259, Deutschland
SUMMARY:MIT Kiel auf Gut Bossee mit Andreas Hein, MdL
END:VEVENT
BEGIN:VEVENT
DTSTAMP:20250924T091500Z
DTSTART:20250924T091500Z
DTEND:20250924T112000Z
LOCATION:Mittwoch, 24. September 2025 | 12 - 13 Uhr | Videokonferenz, Deutschland
SUMMARY:13. MITTAGSGESPRÄCH SPEZIAL BUNDESMITTELSTANDSTAG
END:VEVENT
BEGIN:VEVENT
DTSTAMP:20250822T160000Z
DTSTART:20250822T160000Z
DTEND:20250822T190000Z
LOCATION:ETSV Fortuna Glückstadt e.V., Molenkiekergang 2, Glückstadt, 25348, Deutschland
SUMMARY:Sommerfest der MIT Steinburg
END:VEVENT
BEGIN:VEVENT
DTSTAMP:20250821T170000Z
DTSTART:20250821T170000Z
DTEND:20250821T200000Z
LOCATION:Firma Thomas Klömmer Photovoltaik, Norderkamp 6 (neues Gewerbegebiet an der Landstr. B202), Erfde, 24803, Deutschland
SUMMARY:Politischer Hausabend mit Tilman Kuba 
END:VEVENT
BEGIN:VEVENT
DTSTAMP:20250722T150000Z
DTSTART:20250722T150000Z
DTEND:20250722T150000Z
LOCATION:Verwaltung ELVIS EIS, Otto-Hahn-Str. 3, Bargteheide, 22941, Deutschland
SUMMARY:Betriebsbesichtigung bei ELVIS EIS
END:VEVENT
BEGIN:VEVENT
DTSTAMP:20250704T150000Z
DTSTART:20250704T150000Z
DTEND:20250704T180000Z
LOCATION:Gesellschaft für Technologieförderung Itzehoe mbH, Fraunhoferstr. 3, Itzehoe, 25524, Deutschland
SUMMARY:Start-Up Talk im Hightech-Zentrum IZTET
END:VEVENT
BEGIN:VEVENT
DTSTAMP:20250618T163000Z
DTSTART:20250618T163000Z
DTEND:20250618T200000Z
LOCATION:Heinrich Karstens Bauunternehmung GmbH & Co. KG, Eckernförder Str. 353, Kiel, 24107, Deutschland
SUMMARY:Parlamentarischer Abend mit Daniel Günther MdL
END:VEVENT
BEGIN:VEVENT
DTSTAMP:20250404T080000Z
DTSTART:20250404T080000Z
DTEND:20250405T130000Z
LOCATION:Bernd Wilke GmbH & Co. KG, Hauptstraße 39, Pahlen, 25794, Deutschland
SUMMARY:51. Landesmittelstandstag
END:VEVENT
BEGIN:VEVENT
DTSTAMP:20250218T090000Z
DTSTART:20250218T090000Z
DTEND:20250218T110000Z
LOCATION:Butzkies Stahlbau GmbH, Johann-Hinrich-Fehrs-Str. 2, Krempe, 25361, Deutschland
SUMMARY:UNTERNEHMERFRÜHSTÜCK: MIT WIRKT! 
END:VEVENT
BEGIN:VEVENT
DTSTAMP:20250205T173000Z
DTSTART:20250205T173000Z
DTEND:20250205T210000Z
LOCATION:Nord-Ostsee Automobile, Schulstraße 34, Busdorf, 24866, Deutschland
SUMMARY:NEUJAHRSEMPFANG DER MIT SCHLESWIG-HOLSTEIN MIT DANIEL GÜNTHER MdL
END:VEVENT
BEGIN:VEVENT
DTSTAMP:20241221T110000Z
DTSTART:20241221T110000Z
DTEND:20241221T130000Z
LOCATION:Alte Schmiede, Turmgebäude , Gut Bossee 3, Westensee, 24259, Deutschland
SUMMARY:Historischer Weihnachtsmarktbesuch auf Gut Bossee
END:VEVENT
BEGIN:VEVENT
DTSTAMP:20241209T080000Z
DTSTART:20241209T080000Z
DTEND:20241209T100000Z
LOCATION:BÄKÖ Schleswig-Holstein eG, Gewerbering 11, Kropp, 24848, Deutschland
SUMMARY:Unternehmerfrühstück mit Wirtschaftsminister Claus Ruhe Madsen
END:VEVENT
BEGIN:VEVENT
DTSTAMP:20241012T080000Z
DTSTART:20241012T080000Z
DTEND:20241012T140000Z
LOCATION:Ländliches Kultur-, Bildungs- & Erlebniszentrum Hof Viehbrook, Viehbrooker Weg 6, Rendswühren, 24169, Deutschland
SUMMARY:50. Landesmittelstandstag
END:VEVENT
BEGIN:VEVENT
DTSTAMP:20241009T070000Z
DTSTART:20241009T070000Z
DTEND:20241009T090000Z
LOCATION:Hermann-Ehlers-Stiftung, Niemannsweg 78, Kiel, 24105, Deutschland
SUMMARY:THEMENFRÜHSTÜCK MIT DR. SABINE SÜTTERLIN-WAACK
END:VEVENT
BEGIN:VEVENT
DTSTAMP:20241008T140000Z
DTSTART:20241008T140000Z
DTEND:20241008T170000Z
LOCATION:Nord-Ostsee Sparkasse Veranstaltungsraum S-Forum, Stadtweg 18, Schleswig, 24837, Deutschland
SUMMARY:ESG: NEUES FINANZIERUNGSRATING. HERAUSFORDERUNGEN FÜR  UNTERNEHMEN
END:VEVENT
BEGIN:VEVENT
DTSTAMP:20240717T170000Z
DTSTART:20240717T170000Z
DTEND:20240717T200000Z
LOCATION:BMW Autohaus Hansa Nord, Holzkoppelweg 1-3, Kiel, 24118, Deutschland
SUMMARY:PARLAMENTARISCHER ABEND MIT DANIEL GÜNTHER MdL
END:VEVENT
BEGIN:VEVENT
DTSTAMP:20240703T140000Z
DTSTART:20240703T140000Z
DTEND:20240703T180000Z
LOCATION:HAMBURGER RENN-CLUB e.V., Rennbahnstrasse 96, Hamburg, 22111, Deutschland
SUMMARY:Abend der Wirtschaft - HAMBURGER RENN-CLUB e.V.
END:VEVENT
BEGIN:VEVENT
DTSTAMP:20240621T080000Z
DTSTART:20240621T080000Z
DTEND:20240621T110000Z
LOCATION:Holcim (Deutschland) GmbH Zementwerk , Sandweg 10, Lägerdorf, 25566, Deutschland
SUMMARY:BESUCH DER HOLCIM (DEUTSCHLAND) GMBH UNTERNEHMERFRÜHSTÜCK MIT FÜHRUNG
END:VEVENT
BEGIN:VEVENT
DTSTAMP:20240525T103000Z
DTSTART:20240525T103000Z
DTEND:20240525T123000Z
LOCATION:Restaurant „Doerpshus“, Loher Weg 124, Lohe-Rickelshof, 25746, Deutschland
SUMMARY:CHANCEN UND HERAUSFORDERUNGEN DER NORTHVOLT-ANSIEDLUNG FÜR DEN MITTELSTAND
END:VEVENT
BEGIN:VEVENT
DTSTAMP:20240420T080000Z
DTSTART:20240420T080000Z
DTEND:20240420T110000Z
LOCATION:HanseGarnelen AG, Herrenweide 6, Glückstadt, 25348, Deutschland
SUMMARY:Unternehmerfrühstück bei der HanseGarnelen AG
END:VEVENT
BEGIN:VEVENT
DTSTAMP:20240409T073000Z
DTSTART:20240409T073000Z
DTEND:20240409T103000Z
LOCATION:Hamburg Airport , Flughafenstraße 1-3, Hamburg , Deutschland
SUMMARY:Besichtigung des Hamburger Flughafens der MIT Pinneberg
END:VEVENT
BEGIN:VEVENT
DTSTAMP:20240327T160000Z
DTSTART:20240327T160000Z
DTEND:20240327T190000Z
LOCATION:Handelshof, Osterende 4, Garding, 25836, Deutschland
SUMMARY:MIT Nordfriesland: RECHT UND ORDNUNG FERIENWOHNUNGSNUTZUNG
END:VEVENT
BEGIN:VEVENT
DTSTAMP:20240229T080000Z
DTSTART:20240229T080000Z
DTEND:20240229T105000Z
LOCATION:Ländliches Kultur-, Bildungs- & Erlebniszentrum Hof Viehbrook, Viehbrooker Weg 6, Rendswühren, 24619, Deutschland
SUMMARY:„LADIES BRUNCH“ MIT CORNELIA SCHMACHTENBERG MdL
END:VEVENT
BEGIN:VEVENT
DTSTAMP:20240110T180000Z
DTSTART:20240110T180000Z
DTEND:20240110T200000Z
LOCATION:Jagdschloss Malepartus, Tremsbütteler Weg 102, Bargteheide, 22941, Deutschland
SUMMARY:Neujahrsempfang der MIT Schleswig-Holstein
END:VEVENT
BEGIN:VEVENT
DTSTAMP:20231208T080000Z
DTSTART:20231208T080000Z
DTEND:20231208T093000Z
LOCATION:Hof Viebrook, Viehbrooker Weg 6, Rendswühren, 24619, Deutschland
SUMMARY:Chancen und Herausforderungen durch die Fehmarnbeltquerung
END:VEVENT
BEGIN:VEVENT
DTSTAMP:20230907T163000Z
DTSTART:20230907T163000Z
DTEND:20230907T190000Z
LOCATION:MS Kiel - Seebrücke, Seegartenbrücke, Kiel, 24103, Deutschland
SUMMARY:MARITIMES WARMUP ZUM BUNDESMITTELSTANDSTAG 2023 IN KIEL
END:VEVENT
BEGIN:VEVENT
DTSTAMP:20230828T063000Z
DTSTART:20230828T063000Z
DTEND:20230828T080000Z
LOCATION:„Cafe Vormstegen“, Vormstegen 15, Elmshorn, 25336, Deutschland
SUMMARY:„LADIES BRUNCH“ MIT BIRTE GLISSMANN MDL
END:VEVENT
BEGIN:VEVENT
DTSTAMP:20230613T140000Z
DTSTART:20230613T140000Z
DTEND:20230613T160000Z
LOCATION:Wirtschaftsförderungs- und Regionalentwicklungsgesellschaft Flensburg/Schleswig mbH (WiREG), Lise-Meitner-Str. 2, Flensburg, 24941, Deutschland
SUMMARY:INFORMATIONSVERANSTALTUNG BEI DER WIREG mbH
END:VEVENT
BEGIN:VEVENT
DTSTAMP:20230530T063000Z
DTSTART:20230530T063000Z
DTEND:20230530T080000Z
LOCATION:Landeshaus | Fraktionssitzungssaal der CDU Faktion | R. 249, Düsternbrooker Weg 70, Kiel, 24106, Deutschland
SUMMARY:Ladiesbrunch mit Landtagspräsidentin Kristina Herbst MdL
END:VEVENT
BEGIN:VEVENT
DTSTAMP:20230525T150000Z
DTSTART:20230525T150000Z
DTEND:20230525T190000Z
LOCATION:Nord-Ostsee Sparkasse, Veranstaltungsraum S-Forum, Stadtweg 18, Schleswig, 24837, Deutschland
SUMMARY:49. Landesmittelstandstag mit Gitta Connemann MdB und Niclas Herbst MdEP
END:VEVENT
BEGIN:VEVENT
DTSTAMP:20230419T150000Z
DTSTART:20230419T150000Z
DTEND:20230419T180000Z
LOCATION:Stiftung Mensch Manufaktur im Marschpark, Marschstraße 94, Meldorf, 25704, Deutschland
SUMMARY:Politik trifft Mittelstand : mit Daniel Günther MdL
END:VEVENT
BEGIN:VEVENT
DTSTAMP:20230330T160000Z
DTSTART:20230330T160000Z
DTEND:20230330T180000Z
LOCATION:Hermann Ehlers Akademie , Niemannsweg 78, Kiel, 24105, Deutschland
SUMMARY:DIE NEUE SOZIALE WOHNRAUMFÖRDERUNG DES LANDES SCHLESWIG-HOLSTEIN
END:VEVENT
BEGIN:VEVENT
DTSTAMP:20230324T090000Z
DTSTART:20230324T090000Z
DTEND:20230324T110000Z
LOCATION:Ländliches Kultur-, Bildungs- & Erlebniszentrum Hof Viehbrook, Viehbrooker Weg 6, Rendswühren, 24619, Deutschland
SUMMARY:"Ladies Brunch" mit Staatssekretärin Julia Carstens 
END:VEVENT
BEGIN:VEVENT
DTSTAMP:20230307T173000Z
DTSTART:20230307T173000Z
DTEND:20230307T200000Z
LOCATION:Sportheim in Kalübbe, Dorfstraße 6b, Kalübbe, 24326, Deutschland
SUMMARY:Frühjahrsempfang der MIT Plön mit Minister Claus Ruhe Madsen
END:VEVENT
BEGIN:VEVENT
DTSTAMP:20230201T180000Z
DTSTART:20230201T180000Z
DTEND:20230201T200000Z
LOCATION:IZET-Innovationszentrum Itzehoe, Fraunhoferstraße 3, Itzehoe, 25524, Deutschland
SUMMARY:FACHKRÄFTEEINWANDERUNG. EINE LÖSUNG FÜR DEN FACHKRÄFTEMANGEL?
END:VEVENT
BEGIN:VEVENT
DTSTAMP:20230131T180000Z
DTSTART:20230131T180000Z
DTEND:20230131T210000Z
LOCATION:Jagdschloss Malepartus, Tremsbütteler Weg 102, Bargteheide, 22941, Deutschland
SUMMARY:Neujahrsempfang mit Minister Claus Ruhe Madsen
END:VEVENT
BEGIN:VEVENT
DTSTAMP:20221108T090000Z
DTSTART:20221108T090000Z
DTEND:20221108T110000Z
LOCATION:Peters Werft GmbH, Am Hafen 6, Wewelsfleth, 25599, Deutschland
SUMMARY:Advents-Unternehmerfrühstück mit Mark Helfrich MdB
END:VEVENT
BEGIN:VEVENT
DTSTAMP:20221108T090000Z
DTSTART:20221108T090000Z
DTEND:20221108T110000Z
LOCATION:Peters Werft GmbH, Am Hafen 6, Wewelsfleth, 25599, Deutschland
SUMMARY:Advents-Unternehmerfrühstück mit Mark Helfrich MdB
END:VEVENT
BEGIN:VEVENT
DTSTAMP:20221021T073000Z
DTSTART:20221021T073000Z
DTEND:20221021T090000Z
LOCATION:OBST- UND GEMÜSEGROSSHANDEL BRÜNING, Gnutzer Straße 15, Nortorf, 24589, Deutschland
SUMMARY:Unternehmer-Frühstück beim Obst- und Gemüsehändler Brüning 
END:VEVENT
BEGIN:VEVENT
DTSTAMP:20221006T170000Z
DTSTART:20221006T170000Z
DTEND:20221006T190000Z
LOCATION:Andersen Shopper Manufaktur , Christa u. Günter Andersen Weg 1 , Mittelangeln Saturp, 24869, Deutschland
SUMMARY:Informationsveranstaltung bei der Andersen Shoppen Manufaktur
END:VEVENT
BEGIN:VEVENT
DTSTAMP:20220929T163000Z
DTSTART:20220929T163000Z
DTEND:20220929T200000Z
LOCATION:VIP-Zelt Holstein Kiel, Westring 501, Kiel, 24106, Deutschland
SUMMARY:Parlamentarischer Abend: 50-Jahre MIT
END:VEVENT
BEGIN:VEVENT
DTSTAMP:20220915T073000Z
DTSTART:20220915T073000Z
DTEND:20220915T093000Z
LOCATION:Remondis GmbH Region Nord, Am Ihlberg 10, Melsdorf, 24109, Deutschland
SUMMARY:UNTERNEHMER-FRÜHSTÜCK MIT BETRIEBSRUNDGANG REMONDIS GMBH, REGION NORD
END:VEVENT
BEGIN:VEVENT
DTSTAMP:20220830T163000Z
DTSTART:20220830T163000Z
DTEND:20220830T190000Z
LOCATION:Bernd Wilke GmbH & Co. KG, Hauptstraße 39, 25794 Pahlen, Deutschland
SUMMARY:POLITIK TRIFFT HANDWERK MIT GITTA CONNEMANN, MdB
END:VEVENT
BEGIN:VEVENT
DTSTAMP:20220830T070000Z
DTSTART:20220830T070000Z
DTEND:20220830T090000Z
LOCATION:Fachmarkt Heinrich Tepker, Marie-Curie-Straße 16 - 18, Osterrönfeld, 24783, Deutschland
SUMMARY:UNTERNEHMER-FRÜHSTÜCK MIT DR. JOHANN WADEPHUL, MdB
END:VEVENT
BEGIN:VEVENT
DTSTAMP:20220824T160000Z
DTSTART:20220824T160000Z
DTEND:20220824T180000Z
LOCATION:Stadtwerke Lübeck, Geniner Straße 80, Lübeck, 23560, Deutschland
SUMMARY:DIE STADTWERKE IN DER DIGITALEN TRANSFORMATION IM LAND SCHLESWIG-HOLSTEIN
END:VEVENT
BEGIN:VEVENT
DTSTAMP:20220817T170000Z
DTSTART:20220817T170000Z
DTEND:20220817T190000Z
LOCATION:Kale & ME GmbH, Gartensaal, Vorsetzen 53, Hamburg, 20459, Deutschland
SUMMARY:MIT Stormarn: Unternehmensbesuch Kale & Me GmbH
END:VEVENT
BEGIN:VEVENT
DTSTAMP:20220723T123000Z
DTSTART:20220723T123000Z
DTEND:20220723T160000Z
LOCATION:Ostpreussenkai, Vorderreihe , Lübeck-Travemünde, 23570, Deutschland
SUMMARY: EINLADUNG ZUR 133. TRAVEMÜNDER WOCHE SCHIFFFAHRT 
END:VEVENT
BEGIN:VEVENT
DTSTAMP:20220613T060000Z
DTSTART:20220613T060000Z
DTEND:20220613T080000Z
LOCATION:Stiftung Mensch. Café und Neue Holländerei, Jungfernstieg 5, Meldorf, 25704, Deutschland
SUMMARY:UNTERNEHMERFRÜHSTÜCK MIT INGBERT LIEBING
END:VEVENT
BEGIN:VEVENT
DTSTAMP:20220425T090000Z
DTSTART:20220425T090000Z
DTEND:20220425T103000Z
LOCATION:Alter Heidkrug, Segeberger Straße 10, Kayhude, 23863, Deutschland
SUMMARY:Business Lunch mit Julia Klöckner MdB
END:VEVENT
BEGIN:VEVENT
DTSTAMP:20220408T060000Z
DTSTART:20220408T060000Z
DTEND:20220408T090000Z
LOCATION:Royal Warehouse, Liebigstraße 23, Flensburg, 24941, Deutschland
SUMMARY:Unternehmerfrühstück mit Bundesminister a.D. Thomas de Maizière
END:VEVENT
BEGIN:VEVENT
DTSTAMP:20220324T180000Z
DTSTART:20220324T180000Z
DTEND:20220324T200000Z
LOCATION:Landhaus Horstmühle, Hostmühle 1, Horst, 25358, Deutschland
SUMMARY:VOM EXPORTWELTMEISTER ZU LEBENSMITTELENGPÄSSEN? MIT STEINBURG IM DIALOG
END:VEVENT
BEGIN:VEVENT
DTSTAMP:20220319T080000Z
DTSTART:20220319T080000Z
DTEND:20220319T100000Z
LOCATION:Müllverbrennung Kiel GmbH & Co. KG, Theodor-Heuss-Ring 30, Kiel, 24114, Deutschland
SUMMARY:UNTERNEHMERFRÜHSTÜCK MIT FRIEDRICH MERZ MdB
END:VEVENT
BEGIN:VEVENT
DTSTAMP:20220318T073000Z
DTSTART:20220318T073000Z
DTEND:20220318T093000Z
LOCATION:Firma Jacob Cement, Schwertfegerstraße 16-18, Lübeck, 23556, Deutschland
SUMMARY:Unternehmerfrühstück mit Justizminister Claus Christian Claussen MdL
END:VEVENT
BEGIN:VEVENT
DTSTAMP:20220317T080000Z
DTSTART:20220317T080000Z
DTEND:20220317T103000Z
LOCATION:JUKS, Osterbrookswegsweg 25, Schenefeld, 22869, Deutschland
SUMMARY:Unternehmerfrühstück mit Karin Prien
END:VEVENT
BEGIN:VEVENT
DTSTAMP:20220310T180000Z
DTSTART:20220310T180000Z
DTEND:20220310T200000Z
LOCATION:Landwirtschaftsbetrieb Hof Tramsen, Krimstraße 7, Dollerup, 24989, Deutschland
SUMMARY:Besuch beim Landwirtschaftsbetrieb Tramsen. Mit Gitta Connemann MdB.
END:VEVENT
BEGIN:VEVENT
DTSTAMP:20220310T150000Z
DTSTART:20220310T150000Z
DTEND:20220310T170000Z
LOCATION:BTNord Systemhaus GmbH, Siemensstraße 28, Husum, 25813, Deutschland
SUMMARY:Unternehmensbesuch BTNORD Systemhaus GmbH. Mit Gitta Connemann MdB.
END:VEVENT
BEGIN:VEVENT
DTSTAMP:20220310T123000Z
DTSTART:20220310T123000Z
DTEND:20220310T143000Z
LOCATION:Westhof Bio-Gemüse GmbH & Co. KG , Zum Westhof 6, Friedrichsgabekoog, 25764, Deutschland
SUMMARY:Unternehmensbesuch Westhof Bio-Gemüse GmbH. Mit Gitta Connemann MdB
END:VEVENT
BEGIN:VEVENT
DTSTAMP:20220303T180000Z
DTSTART:20220303T180000Z
DTEND:20220303T200000Z
LOCATION:Gut Apeldör, Apeldör 2, Hennstedt, 25779, Deutschland
SUMMARY:Wie geht`s mit dem Tourismus weiter nach der Pandemie? Mit Jana Schimke MdB
END:VEVENT
BEGIN:VEVENT
DTSTAMP:20220216T090000Z
DTSTART:20220216T090000Z
DTEND:20220216T110000Z
LOCATION:Steinbeis Papier GmbH, Stadtstraße 20, Glückstadt, 25348, Deutschland
SUMMARY:Einblick in den aktuellen Planugsstand der A20 West
END:VEVENT
BEGIN:VEVENT
DTSTAMP:20211209T180000Z
DTSTART:20211209T180000Z
DTEND:20211209T180000Z
LOCATION:Restaurant heimatLODGE im Golfpark Weidenhof, Mühlenstr. 140, Pinneberg, 25421, Deutschland
SUMMARY:Jahreshauptversammlung mit Wahlen
END:VEVENT
BEGIN:VEVENT
DTSTAMP:20211204T083000Z
DTSTART:20211204T083000Z
DTEND:20211204T093000Z
SUMMARY:Digitales Unternehmerfrühstück mit Friedrich Merz MdB
END:VEVENT
BEGIN:VEVENT
DTSTAMP:20211203T173000Z
DTSTART:20211203T173000Z
DTEND:20211203T210000Z
LOCATION:Gemeindehaus der Matthaigemeinde, Westhoffstraße 82, Lübeck, 23554, Deutschland
SUMMARY:Gemeinsame Vorweihnachtsfeier MIT Lübeck
END:VEVENT
BEGIN:VEVENT
DTSTAMP:20211203T160000Z
DTSTART:20211203T160000Z
DTEND:20211203T200000Z
LOCATION:Bootshaus der DLRG, Hüxtorallee 4, Lübeck, 23564, Deutschland
SUMMARY:Mitgliederversammlung mit Neuwahl des Kreisvorstandes der MIT Lübeck
END:VEVENT
BEGIN:VEVENT
DTSTAMP:20211202T173000Z
DTSTART:20211202T173000Z
DTEND:20211202T193000Z
LOCATION:Heidehaus Kremperheide, Birkenweg 15, Krempermoor, 25569, Deutschland
SUMMARY:Kreismittelstandstag (JHV) der MIT Steinburg
END:VEVENT
BEGIN:VEVENT
DTSTAMP:20211202T080000Z
DTSTART:20211202T080000Z
DTEND:20211202T100000Z
LOCATION:Hotel Birke, Martenshofweg 2-8, Kiel, 24109, Deutschland
SUMMARY:Ladiesbrunch mit Ministerpräsident Daniel Günther 
END:VEVENT
BEGIN:VEVENT
DTSTAMP:20211122T080000Z
DTSTART:20211122T080000Z
DTEND:20211122T110000Z
LOCATION:Hof Viehbrook, Viehbrooker Weg 6, Rendswühren, 24619, Deutschland
SUMMARY:“Regionale Produkte brauchen regionale Strukturen und Wertschöpfungsketten“
END:VEVENT
BEGIN:VEVENT
DTSTAMP:20211115T173000Z
DTSTART:20211115T173000Z
DTEND:20211115T200000Z
LOCATION:Firma BT Nord Systemhaus GmbH, Siemensstraße 28, Husum, 25813, Deutschland
SUMMARY:Jahreshauptversammlung MIT Nordfriesland
END:VEVENT
BEGIN:VEVENT
DTSTAMP:20210907T153000Z
DTSTART:20210907T153000Z
DTEND:20210907T190000Z
LOCATION:Bernd Wilke GmbH & Co. KG, Hauptstraße 39, Pahlen, 25794, Deutschland
SUMMARY:48. Landesmittelstandstag 
END:VEVENT
BEGIN:VEVENT
DTSTAMP:20210827T160000Z
DTSTART:20210827T160000Z
DTEND:20210827T190000Z
LOCATION:Bürgerhaus, Kopperpahler Allee 69, Kronshagen, 24119, Deutschland
SUMMARY:Taiwanesischer Abend 
END:VEVENT
BEGIN:VEVENT
DTSTAMP:20210823T163000Z
DTSTART:20210823T163000Z
DTEND:20210823T190000Z
LOCATION:Traditionsdampfer Alexandra, Schiffbrücke 16-18, Flensburg, 24939, Deutschland
SUMMARY:Unternehmergespräch mit Bundeswirtschaftsminister Peter Altmeier
END:VEVENT
BEGIN:VEVENT
DTSTAMP:20210724T120000Z
DTSTART:20210724T120000Z
DTEND:20210724T150000Z
LOCATION:Ostpreussenkai, Vorderreihe, Lübeck-Travemünde, 23570, Deutschland
SUMMARY:131. Travemünder Woche 
END:VEVENT
BEGIN:VEVENT
DTSTAMP:20210621T163000Z
DTSTART:20210621T163000Z
DTEND:20210621T180000Z
LOCATION:Onlineveranstaltung , Deutschland
SUMMARY:Livetalk mit Dr. Carsten Linnemann MdB 
END:VEVENT
BEGIN:VEVENT
DTSTAMP:20210621T163000Z
DTSTART:20210621T163000Z
DTEND:20210621T180000Z
LOCATION:Online Veranstaltung , Deutschland
SUMMARY:Live-Talk mit unserem Bundesvorsitzenden Dr. Carsten Linnemann MdB 
END:VEVENT
BEGIN:VEVENT
DTSTAMP:20210602T070000Z
DTSTART:20210602T070000Z
DTEND:20210602T090000Z
LOCATION:Online Veranstaltung, Deutschland
SUMMARY:Rohstoffknappheit und Kostenexplosion. Rutschen wir in die nächste Krise?
END:VEVENT
BEGIN:VEVENT
DTSTAMP:20210531T170000Z
DTSTART:20210531T170000Z
DTEND:20210531T180000Z
LOCATION:Online Veranstaltung via Webex, Deutschland
SUMMARY:Digitaltalk mit Ministerpräsident Daniel Günther MdL 
END:VEVENT
BEGIN:VEVENT
DTSTAMP:20210323T170000Z
DTSTART:20210323T170000Z
DTEND:20210323T190000Z
LOCATION:Zoom-Meeting, Deutschland
SUMMARY:Mitgliederoffene Vorstandssitzung MIT Kiel
END:VEVENT
BEGIN:VEVENT
DTSTAMP:20210311T180000Z
DTSTART:20210311T180000Z
DTEND:20210311T180000Z
LOCATION:Online - Webex , Deutschland
SUMMARY:Online Europa Talk mit Niclas Herbst MdEP
END:VEVENT
BEGIN:VEVENT
DTSTAMP:20210303T183000Z
DTSTART:20210303T183000Z
DTEND:20210303T200000Z
SUMMARY:Coronatalk. U.A mit Justizminister Claus C. Claussen MdL 
END:VEVENT
BEGIN:VEVENT
DTSTAMP:20210216T170000Z
DTSTART:20210216T170000Z
DTEND:20210216T200000Z
LOCATION:Online-Meeting , Deutschland
SUMMARY:Mitgliederoffene Kreisvorstandssitzung der MIT Kiel 
END:VEVENT
BEGIN:VEVENT
DTSTAMP:20201208T153000Z
DTSTART:20201208T153000Z
DTEND:20201208T170000Z
LOCATION:Online Veranstaltung via Webex , Deutschland
SUMMARY:"Mehr Marktwirtschaft wagen" mit Dr. Carsten Linnemann MdB 
END:VEVENT
BEGIN:VEVENT
DTSTAMP:20201028T090000Z
DTSTART:20201028T090000Z
DTEND:20201028T110000Z
LOCATION:Steinbeis Papier GmbH, Stadtstr. 20, Glückstadt, 25348, Deutschland
SUMMARY:Unternehmerfrühstück: Planungsstand der A20 West
END:VEVENT
BEGIN:VEVENT
DTSTAMP:20201022T130000Z
DTSTART:20201022T130000Z
DTEND:20201022T160000Z
LOCATION:Obst und Gemüsegroßhandel Kai Brüning , Gnutzer Straße 15, Nortorf, 24589, Deutschland
SUMMARY:Unternehmensbesuch mit Dr. Johann Wadephul MdB
END:VEVENT
BEGIN:VEVENT
DTSTAMP:20201015T070000Z
DTSTART:20201015T070000Z
DTEND:20201015T100000Z
LOCATION:Landgasthof Kirschenholz , Hauptstraße 4, Schillsdorf, 24637, Deutschland
SUMMARY:Die Zukunft der Landgasthöfe
END:VEVENT
BEGIN:VEVENT
DTSTAMP:20201003T090000Z
DTSTART:20201003T090000Z
DTEND:20201003T110000Z
LOCATION:Rahe Ranch , Neuenrader Weg 8, Rendswühren, 24619, Deutschland
SUMMARY:Einheitsbuddeln der MIT Plön
END:VEVENT
BEGIN:VEVENT
DTSTAMP:20200923T070000Z
DTSTART:20200923T070000Z
DTEND:20200923T090000Z
LOCATION:Brauer's Aalkate , Schirnauer See 5, Rade, 24790, Deutschland
SUMMARY:Unternehmerfrühstück zum Thema Rader Hochbrücke mit der DEGES 
END:VEVENT
END:VCALENDAR
